BEGIN:VCALENDAR
VERSION:2.0
PRODID:icalendar-ruby
CALSCALE:GREGORIAN
METHOD:PUBLISH
BEGIN:VEVENT
DTSTAMP:20260421T083541Z
UID:24-4075530@americanlutheran.net
DTSTART:20260524T173000Z
DTEND:20260524T174500Z
CLASS:PUBLIC
CREATED:20260420T172020
DESCRIPTION:
LAST-MODIFIED:20260420T172020
LOCATION:Sanctuary
SUMMARY:Traditional Worship 
URL;VALUE=URI:https://www.americanlutheran.net/events/traditional-worship/2
 026-05-24
END:VEVENT
END:VCALENDAR
