BEGIN:VCALENDAR
VERSION:2.0
PRODID:icalendar-ruby
CALSCALE:GREGORIAN
METHOD:PUBLISH
BEGIN:VEVENT
DTSTAMP:20260421T115422Z
UID:24-4078479@americanlutheran.net
DTSTART:20260705T173000Z
DTEND:20260705T174500Z
CLASS:PUBLIC
CREATED:20260421T042646
DESCRIPTION:
LAST-MODIFIED:20260421T042646
LOCATION:Sanctuary
SUMMARY:Traditional Worship 
URL;VALUE=URI:https://www.americanlutheran.net/events/traditional-worship/2
 026-07-05
END:VEVENT
END:VCALENDAR
