BEGIN:VCALENDAR
VERSION:2.0
PRODID:icalendar-ruby
CALSCALE:GREGORIAN
METHOD:PUBLISH
BEGIN:VEVENT
DTSTAMP:20260421T154641Z
UID:24-4081424@americanlutheran.net
DTSTART:20260719T173000Z
DTEND:20260719T174500Z
CLASS:PUBLIC
CREATED:20260421T070223
DESCRIPTION:
LAST-MODIFIED:20260421T070223
LOCATION:Sanctuary
SUMMARY:Traditional Worship 
URL;VALUE=URI:https://www.americanlutheran.net/events/traditional-worship/2
 026-07-19
END:VEVENT
END:VCALENDAR
