BEGIN:VCALENDAR
VERSION:2.0
PRODID:icalendar-ruby
CALSCALE:GREGORIAN
METHOD:PUBLISH
BEGIN:VEVENT
DTSTAMP:20260421T191713Z
UID:24-4084369@americanlutheran.net
DTSTART:20260802T173000Z
DTEND:20260802T174500Z
CLASS:PUBLIC
CREATED:20260421T094043
DESCRIPTION:
LAST-MODIFIED:20260421T094043
LOCATION:Sanctuary
SUMMARY:Traditional Worship 
URL;VALUE=URI:https://www.americanlutheran.net/events/traditional-worship/2
 026-08-02
END:VEVENT
END:VCALENDAR
