BEGIN:VCALENDAR
VERSION:2.0
PRODID:icalendar-ruby
CALSCALE:GREGORIAN
METHOD:PUBLISH
BEGIN:VEVENT
DTSTAMP:20260421T205238Z
UID:24-4087314@americanlutheran.net
DTSTART:20260809T173000Z
DTEND:20260809T174500Z
CLASS:PUBLIC
CREATED:20260421T121818
DESCRIPTION:
LAST-MODIFIED:20260421T121818
LOCATION:Sanctuary
SUMMARY:Traditional Worship 
URL;VALUE=URI:https://www.americanlutheran.net/events/traditional-worship/2
 026-08-09
END:VEVENT
END:VCALENDAR
