BEGIN:VCALENDAR
VERSION:2.0
PRODID:icalendar-ruby
CALSCALE:GREGORIAN
METHOD:PUBLISH
BEGIN:VEVENT
DTSTAMP:20260422T110015Z
UID:24-4093213@americanlutheran.net
DTSTART:20261004T173000Z
DTEND:20261004T174500Z
CLASS:PUBLIC
CREATED:20260421T173414
DESCRIPTION:
LAST-MODIFIED:20260421T173414
LOCATION:Sanctuary
SUMMARY:Traditional Worship 
URL;VALUE=URI:https://www.americanlutheran.net/events/traditional-worship/2
 026-10-04
END:VEVENT
END:VCALENDAR
