BEGIN:VCALENDAR
VERSION:2.0
PRODID:icalendar-ruby
CALSCALE:GREGORIAN
METHOD:PUBLISH
BEGIN:VEVENT
DTSTAMP:20260422T144226Z
UID:24-4099108@americanlutheran.net
DTSTART:20261018T173000Z
DTEND:20261018T174500Z
CLASS:PUBLIC
CREATED:20260422T073128
DESCRIPTION:
LAST-MODIFIED:20260422T073128
LOCATION:Sanctuary
SUMMARY:Traditional Worship 
URL;VALUE=URI:https://www.americanlutheran.net/events/traditional-worship/2
 026-10-18
END:VEVENT
END:VCALENDAR
