BEGIN:VCALENDAR
VERSION:2.0
PRODID:icalendar-ruby
CALSCALE:GREGORIAN
METHOD:PUBLISH
BEGIN:VEVENT
DTSTAMP:20260422T183706Z
UID:24-4102058@americanlutheran.net
DTSTART:20261101T173000Z
DTEND:20261101T174500Z
CLASS:PUBLIC
CREATED:20260422T102654
DESCRIPTION:
LAST-MODIFIED:20260422T102654
LOCATION:Sanctuary
SUMMARY:Traditional Worship 
URL;VALUE=URI:https://www.americanlutheran.net/events/traditional-worship/2
 026-11-01
END:VEVENT
END:VCALENDAR
